BEGIN:VCALENDAR
VERSION:2.0
PRODID:-//wp-events-plugin.com//7.2.3.1//EN
TZID:Europe/Berlin
X-WR-TIMEZONE:Europe/Berlin
BEGIN:VEVENT
UID:27@reso-fabrik-verein.de
DTSTART;TZID=Europe/Berlin;VALUE=DATE:20250219
DTEND;TZID=Europe/Berlin;VALUE=DATE:20250222
DTSTAMP:20240516T090038Z
URL:https://reso-fabrik-verein.de/events/wer-ist-hier-die-flasche-4-zuegig
 -3/
SUMMARY:Wer ist hier die Flasche...? 4-zügig
DESCRIPTION:\n\n\n\n\nMit der Einwilligung einer Kooperation verpflichtet s
 ich die Schule den suchttherapeutischen Einrichtungen eine Aufwandsentsch
 ädigung in Höhe von 50 € pro Durchlauf pro Klasse zu zahlen (ergibt z.
 B. bei einem dreizügigen Jahrgang 150 €). Die Schule kümmert sich eige
 nständig\, um die Aushändigung an die Einrichtungen \n(Therapeutischer H
 of Toppenstedt oder Hansenbarg).\nEbenso bekommt die Reso-Fabrik e.V. eine
  Aufwandsentschädigung in Höhe von 150 € für die Durchführung des Pr
 ojekts. Sollte die Schule vier Wochen vor dem Projekt absagen\, sind die K
 osten dennoch zu tragen.\n\nDie Buchung wird erst durch eine Bestätigung 
 der Koordinatorin\, Vanessa Schröder\, wirksam.\n\n\n\n&nbsp\;
ATTACH;FMTTYPE=image/jpeg:https://reso-fabrik-verein.de/wp-content/uploads
 /logowihdf-e1714135010155_1.png
CATEGORIES:Suchtprävention
LOCATION:Schulen im Landkreis Harburg\,  \,  \, Deutschland
X-APPLE-STRUCTURED-LOCATION;VALUE=URI;X-ADDRESS= \,  \, Deutschland;X-APPLE
 -RADIUS=100;X-TITLE=Schulen im Landkreis Harburg:geo:0,0
END:VEVENT
BEGIN:VTIMEZONE
TZID:Europe/Berlin
X-LIC-LOCATION:Europe/Berlin
BEGIN:STANDARD
DTSTART:20241027T020000
TZOFFSETFROM:+0200
TZOFFSETTO:+0100
TZNAME:CET
END:STANDARD
END:VTIMEZONE
END:VCALENDAR