BEGIN:VCALENDAR
VERSION:2.0
PRODID:-//wp-events-plugin.com//7.2.3.1//EN
TZID:Europe/Berlin
X-WR-TIMEZONE:Europe/Berlin
BEGIN:VEVENT
UID:72@reso-fabrik-verein.de
DTSTART;TZID=Europe/Berlin:20270525T080000
DTEND;TZID=Europe/Berlin:20270527T130000
DTSTAMP:20260420T102410Z
URL:https://reso-fabrik-verein.de/events/webcoaches-ausbildungstermin-wins
 en-elbmarsch-3/
SUMMARY:#webcoaches Ausbildungstermin Winsen/Elbmarsch
DESCRIPTION:&nbsp\;\nLiebe #webcoaches Begleitende\,\nhier könnt ihr wie a
 uch letztes Jahr schon\, die Ausbildungsslots buchen.\n\nZur Erinnerung da
 s #webcoaches Konzept ist verschriftlicht und es ist hier und in der Cloud
  einzusehen.\n\nEure Buchhung ist ist vorerst eine Reservierung und wird v
 on uns im Nachgang bestätigt.\n\nGleichgeblieben ist die Gebühr von 450
 € für das laufende Ausbildungsjahr und\, dass bei einer Absage innerhal
 b von 4 Wochen vor der Ausbildung der volle Betrag fällig wird.\n\nAuf ei
 n tolles neues #webcoaches Jahr!\n\nSina und Silke\n\n&nbsp\;
ATTACH;FMTTYPE=image/jpeg:https://reso-fabrik-verein.de/wp-content/uploads
 /header_webcoaches-bild.jpg
CATEGORIES:#webcoaches
LOCATION:Schulen im Landkreis Harburg\,  \,  \, Deutschland
X-APPLE-STRUCTURED-LOCATION;VALUE=URI;X-ADDRESS= \,  \, Deutschland;X-APPLE
 -RADIUS=100;X-TITLE=Schulen im Landkreis Harburg:geo:0,0
END:VEVENT
BEGIN:VTIMEZONE
TZID:Europe/Berlin
X-LIC-LOCATION:Europe/Berlin
BEGIN:DAYLIGHT
DTSTART:20270328T030000
TZOFFSETFROM:+0100
TZOFFSETTO:+0200
TZNAME:CEST
END:DAYLIGHT
END:VTIMEZONE
END:VCALENDAR